BEGIN:VCALENDAR
VERSION:2.0
PRODID:-//Valley Life Church Selma - ECPv6.15.12.2//NONSGML v1.0//EN
CALSCALE:GREGORIAN
METHOD:PUBLISH
X-ORIGINAL-URL:https://valleylifecc.com
X-WR-CALDESC:Events for Valley Life Church Selma
REFRESH-INTERVAL;VALUE=DURATION:PT1H
X-Robots-Tag:noindex
X-PUBLISHED-TTL:PT1H
BEGIN:VTIMEZONE
TZID:UTC
BEGIN:STANDARD
TZOFFSETFROM:+0000
TZOFFSETTO:+0000
TZNAME:UTC
DTSTART:20240101T000000
END:STANDARD
END:VTIMEZONE
BEGIN:VEVENT
DTSTART;TZID=UTC:20250809T100000
DTEND;TZID=UTC:20250809T120000
DTSTAMP:20260421T123128
CREATED:20250709T181626Z
LAST-MODIFIED:20250709T183611Z
UID:22240-1754733600-1754740800@valleylifecc.com
SUMMARY:Backpack Giveaway
DESCRIPTION:Join Valley Life Community Church for Selma’s Biggest Backpack Giveaway on Saturday\, August 9th at 10 AM! Enjoy a fun-filled day with free food\, haircuts\, exciting giveaways\, live music\, face painting\, and more! Our church and community are uniting to support Selma’s children as they gear up for the new school year. Bring your family for a memorable day of fun and giving back!
URL:https://valleylifecc.com/event/backpack-giveaway/
LOCATION:Church Parking Lot\, 3200 McCall Ave\, Selma\, CA\, 93662\, United States
CATEGORIES:Community Events
ATTACH;FMTTYPE=image/png:https://valleylifecc.com/wp-content/uploads/2025/07/Valley-Life-Backpack-Give-Away-6-slide-16-9.png
END:VEVENT
END:VCALENDAR