BEGIN:VCALENDAR
VERSION:2.0
PRODID:-//Valley Life Church Selma - ECPv6.15.12.2//NONSGML v1.0//EN
CALSCALE:GREGORIAN
METHOD:PUBLISH
X-WR-CALNAME:Valley Life Church Selma
X-ORIGINAL-URL:https://valleylifecc.com
X-WR-CALDESC:Events for Valley Life Church Selma
REFRESH-INTERVAL;VALUE=DURATION:PT1H
X-Robots-Tag:noindex
X-PUBLISHED-TTL:PT1H
BEGIN:VTIMEZONE
TZID:UTC
BEGIN:STANDARD
TZOFFSETFROM:+0000
TZOFFSETTO:+0000
TZNAME:UTC
DTSTART:20230101T000000
END:STANDARD
END:VTIMEZONE
BEGIN:VEVENT
DTSTART;VALUE=DATE:20240908
DTEND;VALUE=DATE:20240909
DTSTAMP:20260421T153746
CREATED:20240906T173803Z
LAST-MODIFIED:20240906T180140Z
UID:22105-1725753600-1725839999@valleylifecc.com
SUMMARY:Sunday Morning Worship
DESCRIPTION:Join us Sunday for a time of worship and the preaching of the Word. \nWelcome to Valley Life\, where hearts are open\, families are embraced\, and lives are transformed! We are so glad you’re looking to join us this Sunday. Our church is a vibrant community filled with love\, hope\, and a passion for making a real difference in the lives of those around us. Whether you’re seeking a place to grow in faith\, connect with others\, or be part of a family that encourages and supports each other\, you’ve found a home here. Together\, we’re changing lives through the power of God’s love\, and we invite you to be part of this exciting journey! Welcome!
URL:https://valleylifecc.com/event/sunday-morning-worship/
LOCATION:Sanctuary
CATEGORIES:Sunday Morning Events
ATTACH;FMTTYPE=image/png:https://valleylifecc.com/wp-content/uploads/2024/09/Valley-Life-pic.png
END:VEVENT
END:VCALENDAR