BEGIN:VCALENDAR
VERSION:2.0
PRODID:-//Valley Life Church Selma - ECPv6.15.12.2//NONSGML v1.0//EN
CALSCALE:GREGORIAN
METHOD:PUBLISH
X-WR-CALNAME:Valley Life Church Selma
X-ORIGINAL-URL:https://valleylifecc.com
X-WR-CALDESC:Events for Valley Life Church Selma
REFRESH-INTERVAL;VALUE=DURATION:PT1H
X-Robots-Tag:noindex
X-PUBLISHED-TTL:PT1H
BEGIN:VTIMEZONE
TZID:UTC
BEGIN:STANDARD
TZOFFSETFROM:+0000
TZOFFSETTO:+0000
TZNAME:UTC
DTSTART:20230101T000000
END:STANDARD
END:VTIMEZONE
BEGIN:VEVENT
DTSTART;TZID=UTC:20241012T100000
DTEND;TZID=UTC:20241012T143000
DTSTAMP:20260423T165423
CREATED:20240910T005537Z
LAST-MODIFIED:20240924T154415Z
UID:22117-1728727200-1728743400@valleylifecc.com
SUMMARY:Prophecy Conference - Discerning the Times
DESCRIPTION:Valley Life community church presents Prophecy Conference – Discerning the Times on Saturday Oct. 12 2024. 10am – 2:30pm \nDoors open at 9:15am. Also Join us Sunday Morning\, the 13th as the conference will continue the next morning. \nJeff Kinley is a former pastor and best-selling author of over 40 books. He is a recognized expert and thought leader in the field of Bible Prophecy\, having authored over a dozen books on the subject. Jeff connects with this generation\, engaging them with biblical truth in a fresh\, practical way. He is a graduate of the University of Arkansas (BA) and Dallas Theological Seminary (ThM). He is also currently a Doctoral Candidate (DMIN) at Liberty University. \nJeff and Beverly have been married for 42 years and have three grown sons.  \nHis website is jeffkinley.com
URL:https://valleylifecc.com/event/prophecy-conference-discerning-the-times/
LOCATION:Sanctuary
CATEGORIES:Community Events
ATTACH;FMTTYPE=image/gif:https://valleylifecc.com/wp-content/uploads/2024/09/website-prophecy.gif
END:VEVENT
BEGIN:VEVENT
DTSTART;TZID=UTC:20241031T180000
DTEND;TZID=UTC:20241031T210000
DTSTAMP:20260423T165423
CREATED:20241002T171545Z
LAST-MODIFIED:20241002T171704Z
UID:22128-1730397600-1730408400@valleylifecc.com
SUMMARY:Harvest Festival
DESCRIPTION:
URL:https://valleylifecc.com/event/harvest-festival/
LOCATION:Church Parking Lot\, 3200 McCall Ave\, Selma\, CA\, 93662\, United States
CATEGORIES:Community Events
ATTACH;FMTTYPE=image/png:https://valleylifecc.com/wp-content/uploads/2024/10/harvest-website.png
END:VEVENT
END:VCALENDAR