BEGIN:VCALENDAR
VERSION:2.0
PRODID:-//Valley Life Church Selma - ECPv6.15.12.2//NONSGML v1.0//EN
CALSCALE:GREGORIAN
METHOD:PUBLISH
X-ORIGINAL-URL:https://valleylifecc.com
X-WR-CALDESC:Events for Valley Life Church Selma
REFRESH-INTERVAL;VALUE=DURATION:PT1H
X-Robots-Tag:noindex
X-PUBLISHED-TTL:PT1H
BEGIN:VTIMEZONE
TZID:UTC
BEGIN:STANDARD
TZOFFSETFROM:+0000
TZOFFSETTO:+0000
TZNAME:UTC
DTSTART:20230101T000000
END:STANDARD
END:VTIMEZONE
BEGIN:VEVENT
DTSTART;TZID=UTC:20240911T180000
DTEND;TZID=UTC:20240911T201000
DTSTAMP:20260422T225611
CREATED:20230729T033925Z
LAST-MODIFIED:20240906T175643Z
UID:21064-1726077600-1726085400@valleylifecc.com
SUMMARY:VOLT - YTH 6th-12th Grade
DESCRIPTION:Welcome to VOLT YTH- Valley Life Community Church! 6th-12th Grade \nWelcome to our youth group\, where young lives are being transformed\, hearts are encountering God\, and futures are being built! \nHere\, we believe that every young person has a purpose\, and we’re passionate about helping you discover yours. This is a place where you can grow in your faith\, build lasting friendships\, and be empowered for the challenges and opportunities ahead. Together\, we’re learning how to live boldly for God\, preparing not just for today but for all the amazing things He has in store for your adult years. \nWe’re excited to walk this journey with you! \nIn addition to our regular gatherings\, we also organize various fun and engaging events throughout the year\, including game nights\, outdoor adventures\, community service projects\, and retreats. These activities are designed to help you have a great time while deepening your connection with both God and your peers. \nThe schedule will be as follows: \n6:00 pm Dinner. \n6:30 pm Start making your way to the Sanctuary. \n6:45 pm Worship \n7:05 pm Dismiss to VOLT \n8:10 pm End \n  \n 
URL:https://valleylifecc.com/event/volt-yth-6th-12th-grade/
LOCATION:Sanctuary
CATEGORIES:Student Ministries
ATTACH;FMTTYPE=image/png:https://valleylifecc.com/wp-content/uploads/2023/07/VOLT-2-1.png
END:VEVENT
BEGIN:VEVENT
DTSTART;VALUE=DATE:20240908
DTEND;VALUE=DATE:20240909
DTSTAMP:20260422T225611
CREATED:20240906T173803Z
LAST-MODIFIED:20240906T180140Z
UID:22105-1725753600-1725839999@valleylifecc.com
SUMMARY:Sunday Morning Worship
DESCRIPTION:Join us Sunday for a time of worship and the preaching of the Word. \nWelcome to Valley Life\, where hearts are open\, families are embraced\, and lives are transformed! We are so glad you’re looking to join us this Sunday. Our church is a vibrant community filled with love\, hope\, and a passion for making a real difference in the lives of those around us. Whether you’re seeking a place to grow in faith\, connect with others\, or be part of a family that encourages and supports each other\, you’ve found a home here. Together\, we’re changing lives through the power of God’s love\, and we invite you to be part of this exciting journey! Welcome!
URL:https://valleylifecc.com/event/sunday-morning-worship/
LOCATION:Sanctuary
CATEGORIES:Sunday Morning Events
ATTACH;FMTTYPE=image/png:https://valleylifecc.com/wp-content/uploads/2024/09/Valley-Life-pic.png
END:VEVENT
BEGIN:VEVENT
DTSTART;TZID=UTC:20240911T180000
DTEND;TZID=UTC:20240911T201000
DTSTAMP:20260422T225611
CREATED:20230729T033925Z
LAST-MODIFIED:20240906T175643Z
UID:21064-1726077600-1726085400@valleylifecc.com
SUMMARY:VOLT - YTH 6th-12th Grade
DESCRIPTION:Welcome to VOLT YTH- Valley Life Community Church! 6th-12th Grade \nWelcome to our youth group\, where young lives are being transformed\, hearts are encountering God\, and futures are being built! \nHere\, we believe that every young person has a purpose\, and we’re passionate about helping you discover yours. This is a place where you can grow in your faith\, build lasting friendships\, and be empowered for the challenges and opportunities ahead. Together\, we’re learning how to live boldly for God\, preparing not just for today but for all the amazing things He has in store for your adult years. \nWe’re excited to walk this journey with you! \nIn addition to our regular gatherings\, we also organize various fun and engaging events throughout the year\, including game nights\, outdoor adventures\, community service projects\, and retreats. These activities are designed to help you have a great time while deepening your connection with both God and your peers. \nThe schedule will be as follows: \n6:00 pm Dinner. \n6:30 pm Start making your way to the Sanctuary. \n6:45 pm Worship \n7:05 pm Dismiss to VOLT \n8:10 pm End \n  \n 
URL:https://valleylifecc.com/event/volt-yth-6th-12th-grade/
LOCATION:Sanctuary
CATEGORIES:Student Ministries
ATTACH;FMTTYPE=image/png:https://valleylifecc.com/wp-content/uploads/2023/07/VOLT-2-1.png
END:VEVENT
BEGIN:VEVENT
DTSTART;VALUE=DATE:20240908
DTEND;VALUE=DATE:20240909
DTSTAMP:20260422T225611
CREATED:20240906T173803Z
LAST-MODIFIED:20240906T180140Z
UID:22105-1725753600-1725839999@valleylifecc.com
SUMMARY:Sunday Morning Worship
DESCRIPTION:Join us Sunday for a time of worship and the preaching of the Word. \nWelcome to Valley Life\, where hearts are open\, families are embraced\, and lives are transformed! We are so glad you’re looking to join us this Sunday. Our church is a vibrant community filled with love\, hope\, and a passion for making a real difference in the lives of those around us. Whether you’re seeking a place to grow in faith\, connect with others\, or be part of a family that encourages and supports each other\, you’ve found a home here. Together\, we’re changing lives through the power of God’s love\, and we invite you to be part of this exciting journey! Welcome!
URL:https://valleylifecc.com/event/sunday-morning-worship/
LOCATION:Sanctuary
CATEGORIES:Sunday Morning Events
ATTACH;FMTTYPE=image/png:https://valleylifecc.com/wp-content/uploads/2024/09/Valley-Life-pic.png
END:VEVENT
BEGIN:VEVENT
DTSTART;TZID=UTC:20240911T180000
DTEND;TZID=UTC:20240911T201000
DTSTAMP:20260422T225611
CREATED:20230729T033925Z
LAST-MODIFIED:20240906T175643Z
UID:21064-1726077600-1726085400@valleylifecc.com
SUMMARY:VOLT - YTH 6th-12th Grade
DESCRIPTION:Welcome to VOLT YTH- Valley Life Community Church! 6th-12th Grade \nWelcome to our youth group\, where young lives are being transformed\, hearts are encountering God\, and futures are being built! \nHere\, we believe that every young person has a purpose\, and we’re passionate about helping you discover yours. This is a place where you can grow in your faith\, build lasting friendships\, and be empowered for the challenges and opportunities ahead. Together\, we’re learning how to live boldly for God\, preparing not just for today but for all the amazing things He has in store for your adult years. \nWe’re excited to walk this journey with you! \nIn addition to our regular gatherings\, we also organize various fun and engaging events throughout the year\, including game nights\, outdoor adventures\, community service projects\, and retreats. These activities are designed to help you have a great time while deepening your connection with both God and your peers. \nThe schedule will be as follows: \n6:00 pm Dinner. \n6:30 pm Start making your way to the Sanctuary. \n6:45 pm Worship \n7:05 pm Dismiss to VOLT \n8:10 pm End \n  \n 
URL:https://valleylifecc.com/event/volt-yth-6th-12th-grade/
LOCATION:Sanctuary
CATEGORIES:Student Ministries
ATTACH;FMTTYPE=image/png:https://valleylifecc.com/wp-content/uploads/2023/07/VOLT-2-1.png
END:VEVENT
BEGIN:VEVENT
DTSTART;VALUE=DATE:20240908
DTEND;VALUE=DATE:20240909
DTSTAMP:20260422T225611
CREATED:20240906T173803Z
LAST-MODIFIED:20240906T180140Z
UID:22105-1725753600-1725839999@valleylifecc.com
SUMMARY:Sunday Morning Worship
DESCRIPTION:Join us Sunday for a time of worship and the preaching of the Word. \nWelcome to Valley Life\, where hearts are open\, families are embraced\, and lives are transformed! We are so glad you’re looking to join us this Sunday. Our church is a vibrant community filled with love\, hope\, and a passion for making a real difference in the lives of those around us. Whether you’re seeking a place to grow in faith\, connect with others\, or be part of a family that encourages and supports each other\, you’ve found a home here. Together\, we’re changing lives through the power of God’s love\, and we invite you to be part of this exciting journey! Welcome!
URL:https://valleylifecc.com/event/sunday-morning-worship/
LOCATION:Sanctuary
CATEGORIES:Sunday Morning Events
ATTACH;FMTTYPE=image/png:https://valleylifecc.com/wp-content/uploads/2024/09/Valley-Life-pic.png
END:VEVENT
BEGIN:VEVENT
DTSTART;TZID=UTC:20240911T180000
DTEND;TZID=UTC:20240911T201000
DTSTAMP:20260422T225611
CREATED:20230729T033925Z
LAST-MODIFIED:20240906T175643Z
UID:21064-1726077600-1726085400@valleylifecc.com
SUMMARY:VOLT - YTH 6th-12th Grade
DESCRIPTION:Welcome to VOLT YTH- Valley Life Community Church! 6th-12th Grade \nWelcome to our youth group\, where young lives are being transformed\, hearts are encountering God\, and futures are being built! \nHere\, we believe that every young person has a purpose\, and we’re passionate about helping you discover yours. This is a place where you can grow in your faith\, build lasting friendships\, and be empowered for the challenges and opportunities ahead. Together\, we’re learning how to live boldly for God\, preparing not just for today but for all the amazing things He has in store for your adult years. \nWe’re excited to walk this journey with you! \nIn addition to our regular gatherings\, we also organize various fun and engaging events throughout the year\, including game nights\, outdoor adventures\, community service projects\, and retreats. These activities are designed to help you have a great time while deepening your connection with both God and your peers. \nThe schedule will be as follows: \n6:00 pm Dinner. \n6:30 pm Start making your way to the Sanctuary. \n6:45 pm Worship \n7:05 pm Dismiss to VOLT \n8:10 pm End \n  \n 
URL:https://valleylifecc.com/event/volt-yth-6th-12th-grade/
LOCATION:Sanctuary
CATEGORIES:Student Ministries
ATTACH;FMTTYPE=image/png:https://valleylifecc.com/wp-content/uploads/2023/07/VOLT-2-1.png
END:VEVENT
BEGIN:VEVENT
DTSTART;VALUE=DATE:20240908
DTEND;VALUE=DATE:20240909
DTSTAMP:20260422T225611
CREATED:20240906T173803Z
LAST-MODIFIED:20240906T180140Z
UID:22105-1725753600-1725839999@valleylifecc.com
SUMMARY:Sunday Morning Worship
DESCRIPTION:Join us Sunday for a time of worship and the preaching of the Word. \nWelcome to Valley Life\, where hearts are open\, families are embraced\, and lives are transformed! We are so glad you’re looking to join us this Sunday. Our church is a vibrant community filled with love\, hope\, and a passion for making a real difference in the lives of those around us. Whether you’re seeking a place to grow in faith\, connect with others\, or be part of a family that encourages and supports each other\, you’ve found a home here. Together\, we’re changing lives through the power of God’s love\, and we invite you to be part of this exciting journey! Welcome!
URL:https://valleylifecc.com/event/sunday-morning-worship/
LOCATION:Sanctuary
CATEGORIES:Sunday Morning Events
ATTACH;FMTTYPE=image/png:https://valleylifecc.com/wp-content/uploads/2024/09/Valley-Life-pic.png
END:VEVENT
BEGIN:VEVENT
DTSTART;TZID=UTC:20240911T180000
DTEND;TZID=UTC:20240911T201000
DTSTAMP:20260422T225611
CREATED:20230729T033925Z
LAST-MODIFIED:20240906T175643Z
UID:21064-1726077600-1726085400@valleylifecc.com
SUMMARY:VOLT - YTH 6th-12th Grade
DESCRIPTION:Welcome to VOLT YTH- Valley Life Community Church! 6th-12th Grade \nWelcome to our youth group\, where young lives are being transformed\, hearts are encountering God\, and futures are being built! \nHere\, we believe that every young person has a purpose\, and we’re passionate about helping you discover yours. This is a place where you can grow in your faith\, build lasting friendships\, and be empowered for the challenges and opportunities ahead. Together\, we’re learning how to live boldly for God\, preparing not just for today but for all the amazing things He has in store for your adult years. \nWe’re excited to walk this journey with you! \nIn addition to our regular gatherings\, we also organize various fun and engaging events throughout the year\, including game nights\, outdoor adventures\, community service projects\, and retreats. These activities are designed to help you have a great time while deepening your connection with both God and your peers. \nThe schedule will be as follows: \n6:00 pm Dinner. \n6:30 pm Start making your way to the Sanctuary. \n6:45 pm Worship \n7:05 pm Dismiss to VOLT \n8:10 pm End \n  \n 
URL:https://valleylifecc.com/event/volt-yth-6th-12th-grade/
LOCATION:Sanctuary
CATEGORIES:Student Ministries
ATTACH;FMTTYPE=image/png:https://valleylifecc.com/wp-content/uploads/2023/07/VOLT-2-1.png
END:VEVENT
BEGIN:VEVENT
DTSTART;VALUE=DATE:20240908
DTEND;VALUE=DATE:20240909
DTSTAMP:20260422T225611
CREATED:20240906T173803Z
LAST-MODIFIED:20240906T180140Z
UID:22105-1725753600-1725839999@valleylifecc.com
SUMMARY:Sunday Morning Worship
DESCRIPTION:Join us Sunday for a time of worship and the preaching of the Word. \nWelcome to Valley Life\, where hearts are open\, families are embraced\, and lives are transformed! We are so glad you’re looking to join us this Sunday. Our church is a vibrant community filled with love\, hope\, and a passion for making a real difference in the lives of those around us. Whether you’re seeking a place to grow in faith\, connect with others\, or be part of a family that encourages and supports each other\, you’ve found a home here. Together\, we’re changing lives through the power of God’s love\, and we invite you to be part of this exciting journey! Welcome!
URL:https://valleylifecc.com/event/sunday-morning-worship/
LOCATION:Sanctuary
CATEGORIES:Sunday Morning Events
ATTACH;FMTTYPE=image/png:https://valleylifecc.com/wp-content/uploads/2024/09/Valley-Life-pic.png
END:VEVENT
BEGIN:VEVENT
DTSTART;VALUE=DATE:20240908
DTEND;VALUE=DATE:20240909
DTSTAMP:20260422T225611
CREATED:20240906T173803Z
LAST-MODIFIED:20240906T180140Z
UID:22105-1725753600-1725839999@valleylifecc.com
SUMMARY:Sunday Morning Worship
DESCRIPTION:Join us Sunday for a time of worship and the preaching of the Word. \nWelcome to Valley Life\, where hearts are open\, families are embraced\, and lives are transformed! We are so glad you’re looking to join us this Sunday. Our church is a vibrant community filled with love\, hope\, and a passion for making a real difference in the lives of those around us. Whether you’re seeking a place to grow in faith\, connect with others\, or be part of a family that encourages and supports each other\, you’ve found a home here. Together\, we’re changing lives through the power of God’s love\, and we invite you to be part of this exciting journey! Welcome!
URL:https://valleylifecc.com/event/sunday-morning-worship/
LOCATION:Sanctuary
CATEGORIES:Sunday Morning Events
ATTACH;FMTTYPE=image/png:https://valleylifecc.com/wp-content/uploads/2024/09/Valley-Life-pic.png
END:VEVENT
BEGIN:VEVENT
DTSTART;TZID=UTC:20260215T190000
DTEND;TZID=UTC:20260215T203000
DTSTAMP:20260422T225611
CREATED:20260113T044231Z
LAST-MODIFIED:20260113T051426Z
UID:22366-1771182000-1771187400@valleylifecc.com
SUMMARY:Heaven's Gates & Hell's Flames: Where will you be when reality strikes?
DESCRIPTION:Join us as we present the Evangelistic Drama Heaven’s Gates & Hell’s Flames.  For over 40 years and in over 100 countries the message of Jesus Christ has been presented using this drama.  Millions of people have given their lives to Jesus! In a powerful way\, this drama portrays eternity\, Heaven\, and Hell. Admission is free.
URL:https://valleylifecc.com/event/heavens-gates-hells-flames-3/
ATTACH;FMTTYPE=image/png:https://valleylifecc.com/wp-content/uploads/2026/01/HGHF-web-09-scaled.png
END:VEVENT
BEGIN:VEVENT
DTSTART;TZID=UTC:20260216T190000
DTEND;TZID=UTC:20260216T203000
DTSTAMP:20260422T225611
CREATED:20260113T044144Z
LAST-MODIFIED:20260113T044503Z
UID:22372-1771268400-1771273800@valleylifecc.com
SUMMARY:Heaven's Gates & Hell's Flames: Where will you be when reality strikes?
DESCRIPTION:Join us as we present the Evangelistic Drama Heaven’s Gates & Hell’s Flames.  For over 40 years and in over 100 countries the message of Jesus Christ has been presented using this drama.  Millions of people have given their lives to Jesus! In a powerful way\, this drama portrays eternity\, Heaven\, and Hell. Admission is free.
URL:https://valleylifecc.com/event/heavens-gates-hells-flames-2/
ATTACH;FMTTYPE=image/png:https://valleylifecc.com/wp-content/uploads/2026/01/HGHF-web-09-scaled.png
END:VEVENT
BEGIN:VEVENT
DTSTART;TZID=UTC:20260217T190000
DTEND;TZID=UTC:20260217T203000
DTSTAMP:20260422T225611
CREATED:20260113T043251Z
LAST-MODIFIED:20260113T044437Z
UID:22374-1771354800-1771360200@valleylifecc.com
SUMMARY:Heaven's Gates & Hell's Flames: Where will you be when reality strikes?
DESCRIPTION:Join us as we present the Evangelistic Drama Heaven’s Gates & Hell’s Flames.  For over 40 years and in over 100 countries the message of Jesus Christ has been presented using this drama.  Millions of people have given their lives to Jesus! In a powerful way\, this drama portrays eternity\, Heaven\, and Hell. Admission is free.
URL:https://valleylifecc.com/event/heavens-gates-hells-flames/
ATTACH;FMTTYPE=image/png:https://valleylifecc.com/wp-content/uploads/2026/01/HGHF-web-09-scaled.png
END:VEVENT
BEGIN:VEVENT
DTSTART;TZID=UTC:20260306T183000
DTEND;TZID=UTC:20260306T203000
DTSTAMP:20260422T225611
CREATED:20260301T210116Z
LAST-MODIFIED:20260301T210117Z
UID:22417-1772821800-1772829000@valleylifecc.com
SUMMARY:Young Adults Worship Night
DESCRIPTION:Join us as we gather as Young Adults for a night of worship! We’ll be collaborating with The Verge Collective for a night of adoration and praise. Worship starts at 7:00 and doors open at 6:30 for fellowship and coffee. We can’t wait to see you there!
URL:https://valleylifecc.com/event/young-adults-worship-night/
LOCATION:Fellowship Hall\, 3200 McCall Ave\, Selma\, CA\, 93662\, United States
ATTACH;FMTTYPE=image/png:https://valleylifecc.com/wp-content/uploads/2026/03/valley-ya-worship-feb-16x9-1-scaled.png
END:VEVENT
BEGIN:VEVENT
DTSTART;TZID=UTC:20260403T190000
DTEND;TZID=UTC:20260403T203000
DTSTAMP:20260422T225611
CREATED:20260301T203859Z
LAST-MODIFIED:20260301T210159Z
UID:22402-1775242800-1775248200@valleylifecc.com
SUMMARY:Risen: A Resurrection Celebration Drama
DESCRIPTION:
URL:https://valleylifecc.com/event/risen-a-resurrection-celebration-drama/
LOCATION:Sanctuary
ATTACH;FMTTYPE=image/png:https://valleylifecc.com/wp-content/uploads/2026/03/Easter-PROPRESENT-16x9-1-scaled.png
END:VEVENT
BEGIN:VEVENT
DTSTART;TZID=UTC:20260405T100000
DTEND;TZID=UTC:20260405T120000
DTSTAMP:20260422T225611
CREATED:20260301T204040Z
LAST-MODIFIED:20260301T210228Z
UID:22407-1775383200-1775390400@valleylifecc.com
SUMMARY:Risen: A Resurrection Celebration Drama
DESCRIPTION:
URL:https://valleylifecc.com/event/risen-a-resurrection-sunday-drama/
LOCATION:Sanctuary
ATTACH;FMTTYPE=image/png:https://valleylifecc.com/wp-content/uploads/2026/03/Easter-PROPRESENT-16x9-1-scaled.png
END:VEVENT
END:VCALENDAR